{"text_format":"1","workbook":"xlsx","n_sheets":5,"sheets":["こちらに情報を入力してください（入力シート）","【直接入力しない】　予約希望申込書（出力用)","フォーム","決裁用（記入例）","記入例"],"not_rendered":{"charts":0,"images":3,"macros":1,"external_links":0,"defined_names":37,"comments":0,"pivot_tables":0},"unopened":[],"bounds":{"document_bytes":16777216,"sheet_cells":100000,"rows_first":2000,"rows_last":500,"rows_between":2000,"halvings":0,"cell_chars":16384,"cell_head_chars":4096},"cells_cut":0,"cells_raw":0,"read":"whole","date_system":"1900"}

{"sheet":"こちらに情報を入力してください（入力シート）","index":0,"n_rows":45,"n_cols":13,"rows_kept":45,"cut":false,"hidden":false,"merged":[[2,5,3,5],[4,5,8,5],[41,1,41,3],[38,1,38,3],[35,1,35,3],[36,1,36,3],[25,5,30,5],[31,5,34,5],[44,1,44,3],[42,1,42,3],[43,1,43,3],[39,1,39,3],[27,2,28,2],[29,2,30,2],[37,1,37,3],[31,2,32,2],[31,1,34,1],[0,1,0,5],[12,5,13,5],[36,5,42,5],[19,3,20,3],[14,5,17,5],[21,5,23,5],[40,1,40,3],[4,1,13,2],[3,1,3,3],[2,1,2,3],[33,2,34,2],[25,1,30,1],[10,3,11,3],[14,1,24,2],[25,2,26,2],[1,1,1,3]]}
[null,"　予約希望調査票　（入力シート）"]
[null,"項目",null,null,"　　　　　　　 【入力欄】\n　※以下の太枠内に情報をご入力ください。\n　※既に入力されている情報は入力例です。\n　　入力内容を削除して、新たにご入力くだ\n　　さい。","入力時の留意点等"]
[1,"団体名",null,null,"曽爾高等学校","　入力　"]
[2,"読み（カナ）",null,null,"ソニコウトウガッコウ"]
[4,"代表者",null,"フリガナ\n（苗字）","ソニ","　代表者情報を入力"]
[3,null,null,"苗字","曽爾"]
[6,null,null,"フリガナ\n（名前）","タロウ"]
[5,null,null,"名前","太郎"]
[7,null,null,"役職","代表"]
[8,null,null,"郵便番号",6331202,"半角数字のみ（ハイフンなし）"]
[9,null,null,"住所","奈良県","都道府県"]
[10,null,null,null,"宇陀郡曽爾村太良路1170","都道府県以下"]
[11,null,null,"電話番号","0745962121","半角数字のみ（ハイフンなし）"]
[12,null,null,"FAX","0745962126"]
[14,"担当者",null,"フリガナ（苗字）","ソニ","入力　"]
[13,null,null,"苗字","曽爾"]
[16,null,null,"フリガナ（名前）","ハナコ"]
[15,null,null,"名前","花子"]
[17,null,null,"郵便番号",6331202,"半角数字のみ（ハイフンなし）"]
[18,null,null,"住所","奈良県","都道府県"]
[19,null,null,null,"宇陀郡曽爾村太良路1170","都道府県以下の住所を入力"]
[20,null,null,"電話番号","0745962121","半角数字のみ（ハイフンなし）"]
[22,null,null,"FAX","0745962126"]
[21,null,null,"携帯電話","08012345678"]
[23,null,null,"メールアドレス","soni@niye.go.jp","半角英数"]
[26,"利用希望日","第1希望","入所日","2025-05-30","\n右記のカレンダーをご確認いただき「宿泊不可日」を避けてご入力ください。\n\n【記入例】\n　2025/4/1\n　\n※上記の記入例のとおり\n　「yyyy/m/d」とご入力\n　いただくと曜日が自動的に\n　反映されます。\n※該当年度の日付を入力する\n　とエラーメッセージが表示\n　されます。"]
[27,null,null,"退所日","2025-05-31"]
[28,null,"第２希望","入所日","2025-06-05"]
[29,null,null,"退所日","2025-06-06"]
[30,null,"第３希望","入所日","2025-06-11"]
[31,null,null,"退所日","2025-06-12"]
[32,"利用予定人数","児童生徒\n参加者","男",50,"入力（数字のみ）\n可能な限り多くの団体にご利用いただきたいと考えております。実際の利用人数と大きな乖離がないようにしてください。\n※50名以上の団体の30％以上の人数減はキャンセルポリシーに抵触します。ご注意ください。"]
[33,null,null,"女",50]
[34,null,"引率者\n指導者","男",10]
[35,null,null,"女",10]
[36,"研修会名",null,null,"１年生の林間学校","入力　例○○キャンプ\n　　　　　5年生の林間学校　など",null,"○○キャンプ、5年生の林間学校　など"]
[37,"利用目的",null,null,"新入生オリエンテーション","選択方式",null,"新入生オリエンテーション","集団宿泊的行事","自然体験","体育館を利用した室内スポーツ活動の合宿"]
[38,"当施設利用経験の有無",null,null,"有",null,null,"有","無"]
[39,"宿泊場所",null,null,"本館",null,null,"本館","キャンプ場"]
[40,"さなか棟　希望\n（車いす対応として）",null,null,"必須",null,null,"必須","不要"]
[null,"野外炊事実施希望①",null,null,"1日目夕食",null,null,"1日目夕食","2日目朝食","2日目昼食","2日目夕食","3日目朝食","3日目昼食"]
[null,"野外炊事実施希望②",null,null,"2日目朝食"]
[null,"野外炊事実施希望③",null,null,"2日目昼食"]
[null,"記入しきれない、リストにない場合\nこちらに手入力してください",null,null,null,"入力"]
[null,"連絡事項\n（上記以外で伝達しておきたい内容）",null,null,"肢体不自由の生徒の入学予定あり","入力"]

{"sheet":"【直接入力しない】　予約希望申込書（出力用)","index":1,"n_rows":31,"n_cols":27,"rows_kept":31,"cut":false,"hidden":false,"merged":[[1,0,1,26],[4,1,7,1],[3,0,3,1],[4,0,12,0],[8,1,12,1],[3,2,3,14],[3,16,3,25],[6,15,6,18],[4,15,5,18],[7,15,7,18],[5,3,5,8],[5,9,5,14],[4,3,4,8],[4,9,4,14],[8,15,9,18],[4,19,5,26],[30,0,30,26],[26,0,26,1],[14,0,16,1],[21,0,21,1],[13,0,13,26],[23,2,23,26],[20,7,20,9],[22,16,22,26],[22,2,22,10],[22,11,22,15],[29,0,29,1],[29,2,29,26],[25,2,25,26],[17,7,17,10],[22,0,22,1],[23,0,23,1],[17,0,20,1],[27,2,27,26],[28,2,28,26],[24,0,24,1],[25,0,25,1],[27,0,28,1],[18,7,18,9],[19,7,19,9],[21,2,21,10],[21,11,21,15],[21,16,21,26],[18,3,18,5],[19,3,19,5],[20,3,20,5],[17,11,20,15],[20,16,20,26],[6,19,6,26],[7,19,7,26],[8,19,9,26],[6,3,6,14],[7,3,7,5],[7,6,7,14],[10,15,10,18],[24,2,24,3],[24,4,24,8],[24,9,24,13],[24,14,24,26],[17,3,17,6],[11,15,11,18],[10,19,10,26],[11,19,11,26],[12,3,12,26],[14,16,14,26],[14,14,14,15],[11,3,11,5],[11,6,11,14],[0,0,0,26],[15,3,15,13],[17,25,19,26],[2,10,2,26],[17,16,19,24],[16,3,16,13],[16,14,16,15],[10,3,10,14],[16,16,16,26],[8,3,8,8],[8,9,8,14],[9,3,9,8],[9,9,9,14],[15,14,15,15],[15,16,15,26],[14,3,14,13]]}
["Excelファイルのまま提出してください。全シートそのままご提出ください。"]
["予 約 希 望 調 査 票"]
[null,null,null,null,null,null,null,null,null,null,"※太枠内のみご記入ください。"]
["団体名\n（学校名）",null,{"$f":"'こちらに情報を入力してください（入力シート）'!E3","v":"曽爾高等学校"},null,null,null,null,null,null,null,null,null,null,null,null,"（",{"$f":"'こちらに情報を入力してください（入力シート）'!E4","v":"ソニコウトウガッコウ"},null,null,null,null,null,null,null,null,null,"）"]
["団\n\n体\n\n情　\n\n報","代表者","フリガナ",{"$f":"'こちらに情報を入力してください（入力シート）'!E5","v":"ソニ"},null,null,null,null,null,{"$f":"'こちらに情報を入力してください（入力シート）'!E7","v":"タロウ"},null,null,null,null,null,"役職",null,null,null,{"$f":"'こちらに情報を入力してください（入力シート）'!E9","v":"代表"}]
[null,null,"氏名",{"$f":"'こちらに情報を入力してください（入力シート）'!E6","v":"曽爾"},null,null,null,null,null,{"$f":"'こちらに情報を入力してください（入力シート）'!E8","v":"太郎"}]
[null,null,"郵便番号",{"$f":"'こちらに情報を入力してください（入力シート）'!E10","v":6331202},null,null,null,null,null,null,null,null,null,null,null,"電話番号",null,null,null,{"$f":"'こちらに情報を入力してください（入力シート）'!E13","v":"0745962121"}]
[null,null,"住所",{"$f":"'こちらに情報を入力してください（入力シート）'!E11","v":"奈良県"},null,null,{"$f":"'こちらに情報を入力してください（入力シート）'!E12","v":"宇陀郡曽爾村太良路1170"},null,null,null,null,null,null,null,null,"FAX",null,null,null,{"$f":"'こちらに情報を入力してください（入力シート）'!E14","v":"0745962126"}]
[null,"担当者","フリガナ",{"$f":"'こちらに情報を入力してください（入力シート）'!E15","v":"ソニ"},null,null,null,null,null,{"$f":"'こちらに情報を入力してください（入力シート）'!E17","v":"ハナコ"},null,null,null,null,null,"電話番号",null,null,null,{"$f":"'こちらに情報を入力してください（入力シート）'!E22","v":"0745962121"}]
[null,null,"氏名",{"$f":"'こちらに情報を入力してください（入力シート）'!E16","v":"曽爾"},null,null,null,null,null,{"$f":"'こちらに情報を入力してください（入力シート）'!E18","v":"花子"}]
[null,null,"郵便番号",{"$f":"'こちらに情報を入力してください（入力シート）'!E19","v":6331202},null,null,null,null,null,null,null,null,null,null,null,"携帯電話",null,null,null,{"$f":"'こちらに情報を入力してください（入力シート）'!E24","v":"08012345678"}]
[null,null,"住所",{"$f":"'こちらに情報を入力してください（入力シート）'!E20","v":"奈良県"},null,null,{"$f":"'こちらに情報を入力してください（入力シート）'!E21","v":"宇陀郡曽爾村太良路1170"},null,null,null,null,null,null,null,null,"FAX",null,null,null,{"$f":"'こちらに情報を入力してください（入力シート）'!E23","v":"0745962126"}]
[null,null,"Email",{"$f":"'こちらに情報を入力してください（入力シート）'!E25","v":"soni@niye.go.jp"}]
["利用希望日は、必ず以下の４つすべての条件を踏まえて第３希望までご記入ください。\n（第２、第３希望欄にご記入がない場合は、当自然の家に一任させていただきます。）\n① 第１・第２・第３希望は、それぞれ異なる週であること。\n② 第１・第２・第３希望は、それぞれ異なる曜日であること。（ただし、土日での利用については、②の条件は適用外）\n③ 第１・第２・第３希望のいずれかは、異なる月であること。\n④ 休館日及び休館日前日に宿泊する日程でないこと。（ただし、休館日前日に退所する日程は可。）"]
["利用希望日",null,"第１希望　",{"$f":"'こちらに情報を入力してください（入力シート）'!E26","v":"2025-05-30"},null,null,null,null,null,null,null,null,null,null,"～",null,{"$f":"'こちらに情報を入力してください（入力シート）'!E27","v":"2025-05-31"}]
[null,null,"第２希望　",{"$f":"'こちらに情報を入力してください（入力シート）'!E28","v":"2025-06-05"},null,null,null,null,null,null,null,null,null,null,"～",null,{"$f":"'こちらに情報を入力してください（入力シート）'!E29","v":"2025-06-06"}]
[null,null,"第３希望　",{"$f":"'こちらに情報を入力してください（入力シート）'!E30","v":"2025-06-11"},null,null,null,null,null,null,null,null,null,null,"～",null,{"$f":"'こちらに情報を入力してください（入力シート）'!E31","v":"2025-06-12"}]
["利用予定人数",null,"内訳","児童・生徒\n（参加者）",null,null,null,"引率者\n（指導者）",null,null,null,"合計人数",null,null,null,null,{"$f":"SUM(D21,H21)","v":120},null,null,null,null,null,null,null,null,"\n名"]
[null,null,"男",{"$f":"'こちらに情報を入力してください（入力シート）'!E32","v":50},null,null,"名",{"$f":"'こちらに情報を入力してください（入力シート）'!E34","v":10},null,null,"名"]
[null,null,"女",{"$f":"'こちらに情報を入力してください（入力シート）'!E33","v":50},null,null,"名",{"$f":"'こちらに情報を入力してください（入力シート）'!E35","v":10},null,null,"名"]
[null,null,"合計",{"$f":"SUM(D19:F20)","v":100},null,null,"名",{"$f":"SUM(H19:J20)","v":20},null,null,"名",null,null,null,null,null,"（ご利用にあたって、大幅な人数の\n　　　変更がないようにご留意ください）"]
["研修会名\n（5年生の林間学校、\n○○キャンプなど）",null,{"$f":"'こちらに情報を入力してください（入力シート）'!E36","v":"１年生の林間学校"},null,null,null,null,null,null,null,null,"利用目的",null,null,null,null,{"$f":"'こちらに情報を入力してください（入力シート）'!E37","v":"新入生オリエンテーション"}]
["宿泊場所　　　　",null,{"$f":"'こちらに情報を入力してください（入力シート）'!E39","v":"本館"},null,null,null,null,null,null,null,null,"当所利用経験",null,null,null,null,{"$f":"'こちらに情報を入力してください（入力シート）'!E38","v":"有"}]
["さかな棟 利用希望\n（車いす対応のため）",null,{"$f":"'こちらに情報を入力してください（入力シート）'!E40","v":"必須"}]
["野外炊事\n実施希望",null,{"$f":"'こちらに情報を入力してください（入力シート）'!E41","v":"1日目夕食"},null,{"$f":"'こちらに情報を入力してください（入力シート）'!E42","v":"2日目朝食"},null,null,null,null,{"$f":"'こちらに情報を入力してください（入力シート）'!E43","v":"2日目昼食"}]
["連絡事項",null,{"$f":"'こちらに情報を入力してください（入力シート）'!E45","v":"肢体不自由の生徒の入学予定あり"}]
["自然の家記入欄"]
["利用内定日程",null,"令和　　　　年　　　　月　　　　日（　　　　）　～　　　　月　　　　日（　　　　）"]
[null,null,"　　　　　泊　　　　　日　　　　利用人数　　　　　　　名"]
["内定連絡",null,"　　　　　月　　　　　日　　　　メール　・　ＦＡＸ　・　郵送　　　　（　　　　　　様）　　"]
["団体番号　　　　　　　　　　　　　　　文書番号　　　　　　　　　　　"]

{"sheet":"フォーム","index":2,"n_rows":1,"n_cols":1,"rows_kept":1,"cut":false,"hidden":false,"merged":[[0,0,0,26],[1,0,1,26],[2,10,2,26],[3,0,3,1],[3,2,3,14],[3,16,3,25],[4,19,5,26],[5,3,5,8],[5,9,5,14],[6,3,6,14],[6,15,6,18],[11,3,11,5],[11,6,11,14],[11,15,11,18],[11,19,11,26],[6,19,6,26],[7,3,7,5],[7,6,7,14],[7,15,7,18],[7,19,7,26],[8,3,8,8],[8,9,8,14],[8,15,9,18],[8,19,9,26],[9,3,9,8],[9,9,9,14],[10,3,10,14],[10,15,10,18],[10,19,10,26],[12,3,12,26],[13,0,13,26],[14,0,16,1],[14,3,14,13],[14,14,14,15],[14,16,14,26],[15,3,15,13],[15,14,15,15],[15,16,15,26],[16,3,16,13],[8,1,12,1],[4,0,12,0],[4,1,7,1],[4,3,4,8],[4,9,4,14],[4,15,5,18],[21,0,21,1],[21,2,21,10],[21,11,21,15],[21,16,21,26],[16,14,16,15],[16,16,16,26],[17,0,20,1],[17,3,17,6],[17,7,17,10],[17,11,20,15],[17,16,19,24],[17,25,19,26],[18,3,18,5],[18,7,18,9],[19,3,19,5],[19,7,19,9],[20,3,20,5],[20,7,20,9],[20,16,20,26],[25,0,25,1],[25,2,25,26],[22,0,22,1],[22,2,22,10],[22,11,22,15],[22,16,22,26],[23,0,23,1],[23,2,23,26],[24,0,24,1],[24,2,24,3],[24,4,24,8],[24,9,24,13],[24,14,24,26],[30,0,30,26],[26,0,26,1],[27,0,28,1],[27,2,27,26],[28,2,28,26],[29,0,29,1],[29,2,29,26]]}
["Excelファイルのまま提出してください。全シートそのままご提出ください。"]

{"sheet":"決裁用（記入例）","index":3,"n_rows":31,"n_cols":27,"rows_kept":31,"cut":false,"hidden":false,"merged":[[30,0,30,26],[26,0,26,1],[27,0,28,1],[27,2,27,26],[28,2,28,26],[29,0,29,1],[29,2,29,26],[24,0,24,1],[24,2,24,3],[24,4,24,8],[24,9,24,13],[24,14,24,26],[25,0,25,1],[25,2,25,26],[22,0,22,1],[22,2,22,10],[22,11,22,15],[22,16,22,26],[23,0,23,1],[23,2,23,26],[19,3,19,5],[19,7,19,9],[20,3,20,5],[20,7,20,9],[20,16,20,26],[21,0,21,1],[21,2,21,10],[21,11,21,15],[21,16,21,26],[16,14,16,15],[16,16,16,26],[17,0,20,1],[17,3,17,6],[17,7,17,10],[17,11,20,15],[17,16,19,24],[17,25,19,26],[18,3,18,5],[18,7,18,9],[12,3,12,26],[13,0,13,26],[14,0,16,1],[14,3,14,13],[14,14,14,15],[14,16,14,26],[15,3,15,13],[15,14,15,15],[15,16,15,26],[16,3,16,13],[9,3,9,8],[9,9,9,14],[10,3,10,14],[10,15,10,18],[10,19,10,26],[11,3,11,5],[11,6,11,14],[11,15,11,18],[11,19,11,26],[6,19,6,26],[7,3,7,5],[7,6,7,14],[7,15,7,18],[7,19,7,26],[8,1,12,1],[8,3,8,8],[8,9,8,14],[8,15,9,18],[8,19,9,26],[4,0,12,0],[4,1,7,1],[4,3,4,8],[4,9,4,14],[4,15,5,18],[4,19,5,26],[5,3,5,8],[5,9,5,14],[6,3,6,14],[6,15,6,18],[0,0,0,26],[1,0,1,26],[2,10,2,26],[3,0,3,1],[3,2,3,14],[3,16,3,25]]}
["Excelファイルのまま提出してください。全シートそのままご提出ください。"]
["（記入例）予 約 希 望 調 査 票"]
[null,null,null,null,null,null,null,null,null,null,"※太枠内のみご記入ください。"]
["団体名\n（学校名）",null,{"$f":"'こちらに情報を入力してください（入力シート）'!E3","v":"曽爾高等学校"},null,null,null,null,null,null,null,null,null,null,null,null,"（",{"$f":"'こちらに情報を入力してください（入力シート）'!E4","v":"ソニコウトウガッコウ"},null,null,null,null,null,null,null,null,null,"）"]
["団\n\n体\n\n情　\n\n報","代表者","フリガナ",{"$f":"'こちらに情報を入力してください（入力シート）'!E5","v":"ソニ"},null,null,null,null,null,{"$f":"'こちらに情報を入力してください（入力シート）'!E7","v":"タロウ"},null,null,null,null,null,"役職",null,null,null,{"$f":"'こちらに情報を入力してください（入力シート）'!E9","v":"代表"}]
[null,null,"氏名",{"$f":"'こちらに情報を入力してください（入力シート）'!E6","v":"曽爾"},null,null,null,null,null,{"$f":"'こちらに情報を入力してください（入力シート）'!E8","v":"太郎"}]
[null,null,"郵便番号",{"$f":"'こちらに情報を入力してください（入力シート）'!E10","v":6331202},null,null,null,null,null,null,null,null,null,null,null,"電話番号",null,null,null,{"$f":"'こちらに情報を入力してください（入力シート）'!E13","v":"0745962121"}]
[null,null,"住所",{"$f":"'こちらに情報を入力してください（入力シート）'!E11","v":"奈良県"},null,null,{"$f":"'こちらに情報を入力してください（入力シート）'!E12","v":"宇陀郡曽爾村太良路1170"},null,null,null,null,null,null,null,null,"FAX",null,null,null,{"$f":"'こちらに情報を入力してください（入力シート）'!E14","v":"0745962126"}]
[null,"担当者","フリガナ",{"$f":"'こちらに情報を入力してください（入力シート）'!E15","v":"ソニ"},null,null,null,null,null,{"$f":"'こちらに情報を入力してください（入力シート）'!E17","v":"ハナコ"},null,null,null,null,null,"電話番号",null,null,null,{"$f":"'こちらに情報を入力してください（入力シート）'!E22","v":"0745962121"}]
[null,null,"氏名",{"$f":"'こちらに情報を入力してください（入力シート）'!E16","v":"曽爾"},null,null,null,null,null,{"$f":"'こちらに情報を入力してください（入力シート）'!E18","v":"花子"}]
[null,null,"郵便番号",{"$f":"'こちらに情報を入力してください（入力シート）'!E19","v":6331202},null,null,null,null,null,null,null,null,null,null,null,"携帯電話",null,null,null,{"$f":"'こちらに情報を入力してください（入力シート）'!E24","v":"08012345678"}]
[null,null,"住所",{"$f":"'こちらに情報を入力してください（入力シート）'!E20","v":"奈良県"},null,null,{"$f":"'こちらに情報を入力してください（入力シート）'!E21","v":"宇陀郡曽爾村太良路1170"},null,null,null,null,null,null,null,null,"FAX",null,null,null,{"$f":"'こちらに情報を入力してください（入力シート）'!E23","v":"0745962126"}]
[null,null,"Email",{"$f":"'こちらに情報を入力してください（入力シート）'!E25","v":"soni@niye.go.jp"}]
["利用希望日は、必ず以下の４つすべての条件を踏まえて第３希望までご記入ください。\n（第２、第３希望欄にご記入がない場合は、当自然の家に一任させていただきます。）\n① 第１・第２・第３希望は、それぞれ異なる週であること\n② 第１・第２・第３希望は、それぞれ異なる曜日であること（ただし土日での利用については②の条件は適用外）\n③ 第１・第２・第３希望のいずれかは、異なる月であること\n④ 休館日及び休館日前日に宿泊する日程でないこと（ただし、休館日前日に退所する日程は可。）"]
["利用希望日",null,"第１希望　",{"$f":"'こちらに情報を入力してください（入力シート）'!E26","v":"2025-05-30"},null,null,null,null,null,null,null,null,null,null,"～",null,{"$f":"'こちらに情報を入力してください（入力シート）'!E27","v":"2025-05-31"}]
[null,null,"第２希望　",{"$f":"'こちらに情報を入力してください（入力シート）'!E28","v":"2025-06-05"},null,null,null,null,null,null,null,null,null,null,"～",null,{"$f":"'こちらに情報を入力してください（入力シート）'!E29","v":"2025-06-06"}]
[null,null,"第３希望　",{"$f":"'こちらに情報を入力してください（入力シート）'!E30","v":"2025-06-11"},null,null,null,null,null,null,null,null,null,null,"～",null,{"$f":"'こちらに情報を入力してください（入力シート）'!E31","v":"2025-06-12"}]
["利用予定人数",null,"内訳","児童・生徒\n（参加者）",null,null,null,"引率者\n（指導者）",null,null,null,"合計人数",null,null,null,null,{"$f":"SUM(D21,H21)","v":120},null,null,null,null,null,null,null,null,"\n名"]
[null,null,"男",{"$f":"'こちらに情報を入力してください（入力シート）'!E32","v":50},null,null,"名",{"$f":"'こちらに情報を入力してください（入力シート）'!E34","v":10},null,null,"名"]
[null,null,"女",{"$f":"'こちらに情報を入力してください（入力シート）'!E33","v":50},null,null,"名",{"$f":"'こちらに情報を入力してください（入力シート）'!E35","v":10},null,null,"名"]
[null,null,"合計",{"$f":"SUM(D19:F20)","v":100},null,null,"名",{"$f":"SUM(H19:J20)","v":20},null,null,"名",null,null,null,null,null,"（ご利用にあたって、大幅な人数の\n　　　変更がないようにご留意ください）"]
["研修会名\n（5年生の林間学校、\n○○キャンプなど）",null,{"$f":"'こちらに情報を入力してください（入力シート）'!E36","v":"１年生の林間学校"},null,null,null,null,null,null,null,null,"利用目的",null,null,null,null,{"$f":"'こちらに情報を入力してください（入力シート）'!E37","v":"新入生オリエンテーション"}]
["宿泊場所　　　　",null,{"$f":"'こちらに情報を入力してください（入力シート）'!E39","v":"本館"},null,null,null,null,null,null,null,null,"当所利用経験",null,null,null,null,{"$f":"'こちらに情報を入力してください（入力シート）'!E38","v":"有"}]
["さかな棟 利用希望\n（車いす対応のため）",null,{"$f":"'こちらに情報を入力してください（入力シート）'!E40","v":"必須"}]
["野外炊事\n実施希望",null,{"$f":"'こちらに情報を入力してください（入力シート）'!E41","v":"1日目夕食"},null,{"$f":"'こちらに情報を入力してください（入力シート）'!E42","v":"2日目朝食"},null,null,null,null,{"$f":"'こちらに情報を入力してください（入力シート）'!E43","v":"2日目昼食"}]
["連絡事項",null,{"$f":"'こちらに情報を入力してください（入力シート）'!E45","v":"肢体不自由の生徒の入学予定あり"}]
["自然の家記入欄"]
["利用内定日程",null,"令和　　　　年　　　　月　　　　日（　　　　）　～　　　　月　　　　日（　　　　）"]
[null,null,"　　　　　泊　　　　　日　　　　利用人数　　　　　　　名"]
["内定連絡",null,"　　　　　月　　　　　日　　　　メール　・　ＦＡＸ　・　郵送　　　　（　　　　　　様）　　"]
["団体番号　　　　　　　　　　　　　　　文書番号　　　　　　　　　　　"]

{"sheet":"記入例","index":4,"n_rows":31,"n_cols":27,"rows_kept":31,"cut":false,"hidden":true,"merged":[[30,0,30,26],[26,0,26,1],[27,0,28,1],[27,2,27,26],[28,2,28,26],[29,0,29,1],[29,2,29,26],[20,3,20,5],[20,7,20,9],[20,16,20,26],[25,0,25,1],[25,2,25,26],[22,0,22,1],[22,2,22,10],[22,11,22,15],[22,16,22,26],[23,0,23,1],[23,2,23,26],[24,0,24,1],[24,2,24,3],[24,4,24,8],[24,9,24,13],[24,14,24,26],[21,0,21,1],[21,2,21,10],[21,11,21,15],[21,16,21,26],[16,14,16,15],[16,16,16,26],[17,0,20,1],[17,3,17,6],[17,7,17,10],[17,11,20,15],[17,16,19,24],[17,25,19,26],[18,3,18,5],[18,7,18,9],[19,3,19,5],[19,7,19,9],[14,0,16,1],[14,3,14,13],[14,14,14,15],[14,16,14,26],[15,3,15,13],[15,14,15,15],[15,16,15,26],[16,3,16,13],[12,3,12,26],[13,0,13,26],[4,0,12,0],[7,3,7,5],[7,6,7,14],[7,15,7,18],[7,19,7,26],[8,1,12,1],[8,3,8,8],[8,9,8,14],[8,15,9,18],[8,19,9,26],[9,3,9,8],[4,1,7,1],[9,9,9,14],[10,3,10,14],[10,15,10,18],[10,19,10,26],[11,3,11,5],[4,19,5,26],[5,3,5,8],[5,9,5,14],[6,3,6,14],[6,15,6,18],[6,19,6,26],[4,3,4,8],[4,9,4,14],[4,15,5,18],[11,6,11,14],[11,15,11,18],[11,19,11,26],[1,0,1,26],[2,10,2,26],[3,0,3,1],[3,2,3,14],[3,16,3,25]]}
[]
["予 約 希 望 調 査 票"]
[null,null,null,null,null,null,null,null,null,null,"※太枠内のみご記入ください。"]
["団体名\n（学校名）",null,"曽爾っ子育成協議会",null,null,null,null,null,null,null,null,null,null,null,null,"（","ソニッコイクセイキョウギカイ",null,null,null,null,null,null,null,null,null,"）"]
["団\n\n体\n\n情　\n\n報","代表者","フリガナ","ソニ",null,null,null,null,null,"タロウ",null,null,null,null,null,"役職",null,null,null,"代表"]
[null,null,"氏名","曽爾",null,null,null,null,null,"太郎"]
[null,null,"郵便番号",6331202,null,null,null,null,null,null,null,null,null,null,null,"電話番号",null,null,null,"0745962121"]
[null,null,"住所","奈良県",null,null,"宇陀郡曽爾村太良路1170",null,null,null,null,null,null,null,null,"FAX",null,null,null,"0745962126"]
[null,"担当者","フリガナ","ソニ",null,null,null,null,null,"ハナコ",null,null,null,null,null,"電話番号",null,null,null,"0745962121"]
[null,null,"氏名","曽爾",null,null,null,null,null,"花子"]
[null,null,"郵便番号",6331202,null,null,null,null,null,null,null,null,null,null,null,"携帯電話",null,null,null,"08012345678"]
[null,null,"住所","奈良県",null,null,"宇陀郡曽爾村太良路1170",null,null,null,null,null,null,null,null,"FAX",null,null,null,"0745962126"]
[null,null,"Email","soni@niye.go.jp"]
["利用希望日は、必ず以下の４つすべての条件を踏まえて第３希望までご記入ください。\n（第２、第３希望欄にご記入がない場合は、当自然の家に一任させていただきます。）\n① 第１・第２・第３希望は、それぞれ異なる週であること。\n② 第１・第２・第３希望は、それぞれ異なる曜日であること。（ただし、土日での利用については、②の条件は適用外）\n③ 第１・第２・第３希望のいずれかは、異なる月であること。\n④ 休館日及び休館日前日に宿泊する日程でないこと。（ただし、休館日前日に退所する日程は可。）"]
["利用希望日",null,"第１希望　","2024-04-01",null,null,null,null,null,null,null,null,null,null,"～",null,"2024-04-02"]
[null,null,"第２希望　","2024-04-03",null,null,null,null,null,null,null,null,null,null,"～",null,"2024-04-04"]
[null,null,"第３希望　","2024-05-02",null,null,null,null,null,null,null,null,null,null,"～",null,"2024-05-03"]
["利用予定人数",null,"内訳","児童・生徒\n（参加者）",null,null,null,"引率者\n（指導者）",null,null,null,"合計人数",null,null,null,null,120,null,null,null,null,null,null,null,null,"\n名"]
[null,null,"男",50,null,null,"名",10,null,null,"名"]
[null,null,"女",50,null,null,"名",10,null,null,"名"]
[null,null,"合計",100,null,null,"名",20,null,null,"名",null,null,null,null,null,"（ご利用にあたって、大幅な人数の\n　　　変更がないようにご留意ください）"]
["研修会名\n（5年生の林間学校、\n○○キャンプなど）",null,"そにっとキャンプ（春）",null,null,null,null,null,null,null,null,"利用目的",null,null,null,null,"自然体験"]
["宿泊場所　　　　\n（○で囲んでください）",null,"本館",null,null,null,null,null,null,null,null,"当所利用経験",null,null,null,null,"有"]
["さかな棟 利用希望\n（車いす対応のため）",null,"必須"]
["野外炊事\n実施希望",null,"1日目夕食"]
["連絡事項",null,"調整よろしくお願いいたします。"]
["自然の家記入欄"]
["利用内定日程",null,"令和　　　　年　　　　月　　　　日（　　　　）　～　　　　月　　　　日（　　　　）"]
[null,null,"　　　　　泊　　　　　日　　　　利用人数　　　　　　　名"]
["内定連絡",null,"　　　　　月　　　　　日　　　　メール　・　ＦＡＸ　・　郵送　　　　（　　　　　　様）　　"]
["団体番号　　　　　　　　　　　　　　　文書番号　　　　　　　　　　　"]